BEGIN:VCALENDAR
VERSION:2.0
PRODID:-//ChamberMaster//Event Calendar 2.0//EN
METHOD:PUBLISH
X-PUBLISHED-TTL:P3D
REFRESH-INTERVAL:P3D
CALSCALE:GREGORIAN
BEGIN:VEVENT
DTSTART:20220521T150000Z
DTEND:20220521T050000Z
X-MICROSOFT-CDO-ALLDAYEVENT:FALSE
SUMMARY:Terrarium "Make & Take" Workshop
DESCRIPTION:Terrariums are a popular way to add a little green to an indoor space. While we assist participants in building their own glass terrarium\, we will outline the basics of design\, planting and care. We have various sizes of vessels to choose from\, and all materials and plants are included. Fee depends on the container you choose. Reservations required. Fee: $25-$60
X-ALT-DESC;FMTTYPE=text/html:<span style="font-family:arial\,sans-serif\;"><span style="font-size:12.0pt\;">Terrariums are a popular way to add a little green to an indoor space. While we assist participants in building their own glass terrarium\, we will outline the basics of design\, planting and care. We have various sizes of vessels to choose from\, and all materials and plants are included. Fee depends on the container you choose. Reservations required. Fee: $25-$60</span></span>
LOCATION:Hornbaker Gardens 22937 1140 North Avenue Princeton\, IL 61356
UID:e.258.8491
SEQUENCE:3
DTSTAMP:20260423T231823Z
URL:https://members.princetonchamber-il.com/events/details/terrarium-make-take-workshop-8491
END:VEVENT

END:VCALENDAR
