BEGIN:VCALENDAR
VERSION:2.0
PRODID:-//ChamberMaster//Event Calendar 2.0//EN
METHOD:PUBLISH
X-PUBLISHED-TTL:P3D
REFRESH-INTERVAL:P3D
CALSCALE:GREGORIAN
BEGIN:VEVENT
DTSTART;VALUE=DATE:20220506
DTEND;VALUE=DATE:20220509
TRANSP:TRANSPARENT
X-MICROSOFT-CDO-ALLDAYEVENT:TRUE
SUMMARY:Spring Fever
DESCRIPTION:Spring Fever \n\nBring the girls... for some retail therapy!\n\n\n\nA mile of Quaint\, Unique Shopping!!\n\n\n\nTrolley transportation between shopping districts!
X-ALT-DESC;FMTTYPE=text/html:<div style="text-align: center\;"><span style="font-family: &quot\;comic sans ms&quot\;\; font-size: 22px\;">Spring Fever&nbsp\;</span><br />\n<font face="comic sans ms"><span style="font-size: 18px\;">Bring the girls... for some retail therapy!</span></font><br />\n<br />\n<font face="comic sans ms"><span style="font-size: 18px\;">A mile of&nbsp\;Quaint\, Unique Shopping!!</span></font><br />\n<br />\n<font face="comic sans ms"><span style="font-size: 18px\;">Trolley&nbsp\;transportation between shopping districts!</span></font></div>\n
LOCATION:Main Street\, Princeton\, IL
UID:e.258.8460
SEQUENCE:3
DTSTAMP:20260423T213414Z
URL:https://members.princetonchamber-il.com/events/details/spring-fever-8460
END:VEVENT

END:VCALENDAR
