BEGIN:VCALENDAR
VERSION:2.0
PRODID:-//ChamberMaster//Event Calendar 2.0//EN
METHOD:PUBLISH
X-PUBLISHED-TTL:P3D
REFRESH-INTERVAL:P3D
CALSCALE:GREGORIAN
BEGIN:VEVENT
DTSTART;VALUE=DATE:20241130
DTEND;VALUE=DATE:20241201
TRANSP:TRANSPARENT
X-MICROSOFT-CDO-ALLDAYEVENT:TRUE
SUMMARY:Small Business Saturday!
DESCRIPTION:SMALL BUSINESS SATURDAY!\n\nThe Princeton Area Chamber of Commerce supports Small Business Saturday!!\n\n\n\nA day dedicated to our local small businesses in Princeton!!\n\n\n\nSpend the day shopping on our unique Main Street and ALL Small Businesses in Princeton!!\n\n\n\n\n\nSHOW YOUR SUPPORT AND SHOP THE DAY AWAY!
X-ALT-DESC;FMTTYPE=text/html:<h2 style="text-align: center\;"><span style="font-size:18px\;"><span style="font-family:tahoma\;"><strong>SMALL BUSINESS SATURDAY!</strong></span></span></h2>\n\n<h3 style="text-align: center\;">The Princeton Area Chamber of Commerce supports Small Business Saturday!!<br />\n<br />\nA day dedicated to our local small businesses in Princeton!!<br />\n<br />\nSpend the day shopping on our&nbsp\;unique Main Street&nbsp\;and ALL Small Businesses in Princeton!!<br />\n<br />\n<br />\nSHOW YOUR SUPPORT AND SHOP THE DAY AWAY!</h3>\n
LOCATION:Princeton\, Illinois
UID:e.258.8736
SEQUENCE:3
DTSTAMP:20260421T062459Z
URL:https://members.princetonchamber-il.com/events/details/small-business-saturday-8736
END:VEVENT

END:VCALENDAR
