BEGIN:VCALENDAR
VERSION:2.0
PRODID:-//ChamberMaster//Event Calendar 2.0//EN
METHOD:PUBLISH
X-PUBLISHED-TTL:P3D
REFRESH-INTERVAL:P3D
CALSCALE:GREGORIAN
BEGIN:VEVENT
DTSTART:20251129T143000Z
DTEND:20251130T220000Z
X-MICROSOFT-CDO-ALLDAYEVENT:FALSE
SUMMARY:Sauk Trail Gun Show
DESCRIPTION:Sauk Trail Gun Show\n\nSaturday\, November 29\, 2025\n\nSunday\, November 30\, 2025\n\nBureau County Fairgrounds\n\nPrinceton\, IL 61356
X-ALT-DESC;FMTTYPE=text/html:<div><font size="5">Sauk Trail Gun Show</font></div>\n\n<div><font size="4">Saturday\, November 29\, 2025</font></div>\n\n<div><font size="4">Sunday\, November 30\, 2025</font></div>\n\n<div><font size="4">Bureau County Fairgrounds</font></div>\n\n<div><font size="4">Princeton\, IL 61356</font></div>\n\n<div>&nbsp\;</div>\n
LOCATION:Bureau County Fairgrounds 811 W Peru Street Princeton\, IL 61356
UID:e.258.8871
SEQUENCE:3
DTSTAMP:20260424T215605Z
URL:https://members.princetonchamber-il.com/events/details/sauk-trail-gun-show-8871
END:VEVENT

END:VCALENDAR
