BEGIN:VCALENDAR
VERSION:2.0
PRODID:-//ChamberMaster//Event Calendar 2.0//EN
METHOD:PUBLISH
X-PUBLISHED-TTL:P3D
REFRESH-INTERVAL:P3D
CALSCALE:GREGORIAN
BEGIN:VEVENT
DTSTART:20220416T160000Z
DTEND:20220416T170000Z
X-MICROSOFT-CDO-ALLDAYEVENT:FALSE
SUMMARY:Princeton Optimist Easter Egg Hunt
DESCRIPTION:Princeton Optimist Club Easter Egg Hunt
X-ALT-DESC;FMTTYPE=text/html:Princeton Optimist Club Easter Egg Hunt
LOCATION:Soldiers and Sailors Park Princeton\, IL
UID:e.258.8613
SEQUENCE:3
DTSTAMP:20260423T231853Z
URL:https://members.princetonchamber-il.com/events/details/princeton-optimist-easter-egg-hunt-8613
END:VEVENT

END:VCALENDAR
