BEGIN:VCALENDAR
VERSION:2.0
PRODID:-//ChamberMaster//Event Calendar 2.0//EN
METHOD:PUBLISH
X-PUBLISHED-TTL:P3D
REFRESH-INTERVAL:P3D
CALSCALE:GREGORIAN
BEGIN:VEVENT
DTSTART:20220429T223000Z
DTEND:20220430T023000Z
X-MICROSOFT-CDO-ALLDAYEVENT:FALSE
SUMMARY:Princeton Chamber Annual Fundraiser - Dueling Pianos
DESCRIPTION:Princeton Chamber of Commerce Annual Fundraiser - Dueling Pianos\n\n- details coming soon!
X-ALT-DESC;FMTTYPE=text/html:Princeton Chamber of Commerce Annual Fundraiser - Dueling Pianos<br />\n- details coming soon!
LOCATION:The Barn at Hornbakers 22937 1140 North Avenue Princeton\, IL
UID:e.258.8459
SEQUENCE:3
DTSTAMP:20260423T232242Z
URL:https://members.princetonchamber-il.com/events/details/princeton-chamber-annual-fundraiser-dueling-pianos-8459
END:VEVENT

END:VCALENDAR
