BEGIN:VCALENDAR
VERSION:2.0
PRODID:-//ChamberMaster//Event Calendar 2.0//EN
METHOD:PUBLISH
X-PUBLISHED-TTL:P3D
REFRESH-INTERVAL:P3D
CALSCALE:GREGORIAN
BEGIN:VEVENT
DTSTART:20240927T213000Z
DTEND:20240927T223000Z
X-MICROSOFT-CDO-ALLDAYEVENT:FALSE
SUMMARY:PPL's Writer's Club
DESCRIPTION:The monthly Writer's Club Meeting will take place on Sept 27\, 4:30 pm at the Princeton Public Library. This group votes to decide the type of writing they will focus on for the following month. Writers are encouraged to share their work\, receive constructive criticism\, and share any knowledge about the writing process. Participation in publishing contests with prizes is also encouraged. This program is free and all are welcome to attend.
X-ALT-DESC;FMTTYPE=text/html:The monthly Writer&#39\;s Club Meeting will take place on Sept 27\, 4:30 pm at the Princeton Public Library. This group votes to decide the type of writing they will focus on for the following month. Writers are encouraged to share their work\, receive constructive criticism\, and share any knowledge about the writing process. Participation in publishing contests with prizes is also encouraged. This program is free and all are welcome to attend.
LOCATION:The Princeton Public Library 698 E. Peru St Princeton IL 61356
UID:e.258.8771
SEQUENCE:3
DTSTAMP:20260423T143511Z
URL:https://members.princetonchamber-il.com/events/details/ppl-s-writer-s-club-8771
END:VEVENT

END:VCALENDAR
