BEGIN:VCALENDAR
VERSION:2.0
PRODID:-//ChamberMaster//Event Calendar 2.0//EN
METHOD:PUBLISH
X-PUBLISHED-TTL:P3D
REFRESH-INTERVAL:P3D
CALSCALE:GREGORIAN
BEGIN:VEVENT
DTSTART:20251115T150000Z
DTEND:20251115T200000Z
X-MICROSOFT-CDO-ALLDAYEVENT:FALSE
SUMMARY:Model Train Fair and Farm Toy Show
DESCRIPTION:The Northern IL Model Train Fair and Farm Toy Show \n\nThere will be large working model railroad layouts and lots of trains\, farm toys\, plus die cast cars and other toys too
X-ALT-DESC;FMTTYPE=text/html:The Northern IL Model Train Fair and Farm Toy Show&nbsp\;<br />\nThere will be large working model railroad layouts and lots of trains\, farm toys\, plus die cast cars and other toys too
LOCATION:Bureau County Fairgrounds 811 West Peru Street Princeton\, IL
UID:e.258.8868
SEQUENCE:3
DTSTAMP:20260424T203339Z
URL:https://members.princetonchamber-il.com/events/details/model-train-fair-and-farm-toy-show-8868
END:VEVENT

END:VCALENDAR
