BEGIN:VCALENDAR
VERSION:2.0
PRODID:-//ChamberMaster//Event Calendar 2.0//EN
METHOD:PUBLISH
X-PUBLISHED-TTL:P3D
REFRESH-INTERVAL:P3D
CALSCALE:GREGORIAN
BEGIN:VEVENT
DTSTART:20210820T160000Z
DTEND:20210820T180000Z
X-MICROSOFT-CDO-ALLDAYEVENT:FALSE
SUMMARY:Lunch in the Park
DESCRIPTION:Lunch by Bureau County MOPS. Bake Sale by Friends of Strays.
X-ALT-DESC;FMTTYPE=text/html:Lunch by Bureau County MOPS. Bake Sale by Friends of Strays.&nbsp\;
LOCATION:Soldiers & Sailors Park
UID:e.258.8407
SEQUENCE:3
DTSTAMP:20260424T121120Z
URL:https://members.princetonchamber-il.com/events/details/lunch-in-the-park-8407
END:VEVENT

END:VCALENDAR
