BEGIN:VCALENDAR
VERSION:2.0
PRODID:-//ChamberMaster//Event Calendar 2.0//EN
METHOD:PUBLISH
X-PUBLISHED-TTL:P3D
REFRESH-INTERVAL:P3D
CALSCALE:GREGORIAN
BEGIN:VEVENT
DTSTART:20210806T160000Z
DTEND:20210806T180000Z
X-MICROSOFT-CDO-ALLDAYEVENT:FALSE
SUMMARY:Lunch in the Park
DESCRIPTION:Lunch by Hands of Hope. Bake Sale by First Lutheran Church.
X-ALT-DESC;FMTTYPE=text/html:Lunch by Hands of Hope. Bake Sale by First Lutheran Church.&nbsp\;
LOCATION:Soldiers & Sailors Park
UID:e.258.8405
SEQUENCE:3
DTSTAMP:20260424T135237Z
URL:https://members.princetonchamber-il.com/events/details/lunch-in-the-park-8405
END:VEVENT

END:VCALENDAR
