BEGIN:VCALENDAR
VERSION:2.0
PRODID:-//ChamberMaster//Event Calendar 2.0//EN
METHOD:PUBLISH
X-PUBLISHED-TTL:P3D
REFRESH-INTERVAL:P3D
CALSCALE:GREGORIAN
BEGIN:VEVENT
DTSTART:20251108T140000Z
DTEND:20251108T200000Z
X-MICROSOFT-CDO-ALLDAYEVENT:FALSE
SUMMARY:Huge Winter Garage Sale
DESCRIPTION:Huge Winter Garage Sale\n\nBureau County Fairgrounds\n\n811 West Peru Street\n\nPrinceton\, IL 61356
X-ALT-DESC;FMTTYPE=text/html:<div><span style="font-size: small">Huge Winter Garage Sale</span></div>\n\n<div><span style="font-size: small">Bureau County Fairgrounds</span></div>\n\n<div><span style="font-size: small">811 West Peru Street</span></div>\n\n<div><span style="font-size: small">Princeton\, IL 61356</span></div>\n
LOCATION:Bureau County Fairgrounds 811 West Peru Street Princeton\, IL 61356
UID:e.258.8869
SEQUENCE:3
DTSTAMP:20260424T203212Z
URL:https://members.princetonchamber-il.com/events/details/huge-winter-garage-sale-8869
END:VEVENT

END:VCALENDAR
