BEGIN:VCALENDAR
VERSION:2.0
PRODID:-//ChamberMaster//Event Calendar 2.0//EN
METHOD:PUBLISH
X-PUBLISHED-TTL:P3D
REFRESH-INTERVAL:P3D
CALSCALE:GREGORIAN
BEGIN:VEVENT
DTSTART:20251213T150000Z
DTEND:20251213T200000Z
X-MICROSOFT-CDO-ALLDAYEVENT:FALSE
SUMMARY:Holiday Crafts\, Gifts & Vendor Show
DESCRIPTION:Holiday Crafts\, Gifts & Vendor Show\n\nSaturday\, December 13\, 2025\n\nBureau County Fairgrounds\n\n811 West Peru Street\n\nPrinceton\, IL 61356\n\n9 am - 2 pm\n\n \n\nFor more information email Kathy at kbauer@bureaucountyfair
X-ALT-DESC;FMTTYPE=text/html:<div><span style="font-size:14px\;"><span style="font-family:comic sans ms\;">Holiday Crafts\, Gifts &amp\; Vendor Show</span></span></div>\n\n<div><span style="font-size:14px\;"><span style="font-family:comic sans ms\;">Saturday\, December 13\, 2025</span></span></div>\n\n<div><span style="font-size:14px\;"><span style="font-family:comic sans ms\;">Bureau County Fairgrounds</span></span></div>\n\n<div><span style="font-size:14px\;"><span style="font-family:comic sans ms\;">811 West Peru Street</span></span></div>\n\n<div><span style="font-size:14px\;"><span style="font-family:comic sans ms\;">Princeton\, IL 61356</span></span></div>\n\n<div><span style="font-size:14px\;"><span style="font-family:comic sans ms\;">9 am&nbsp\;- 2 pm</span></span></div>\n\n<div>&nbsp\;</div>\n\n<div><span style="font-size:14px\;"><span style="font-family:comic sans ms\;">For more information email&nbsp\;Kathy at kbauer@bureaucountyfair</span></span></div>\n
LOCATION:Bureau County Fairgrounds 811 West Peru Street Princeton\, IL 61356
UID:e.258.8873
SEQUENCE:3
DTSTAMP:20260424T222334Z
URL:https://members.princetonchamber-il.com/events/details/holiday-crafts-gifts-vendor-show-8873
END:VEVENT

END:VCALENDAR
