BEGIN:VCALENDAR
VERSION:2.0
PRODID:-//ChamberMaster//Event Calendar 2.0//EN
METHOD:PUBLISH
X-PUBLISHED-TTL:P3D
REFRESH-INTERVAL:P3D
CALSCALE:GREGORIAN
BEGIN:VEVENT
DTSTART:20220430T150000Z
DTEND:20220430T160000Z
X-MICROSOFT-CDO-ALLDAYEVENT:FALSE
SUMMARY:Gardening with Perennials
DESCRIPTION:As we start our 36th year in business\, we'll talk about our "Tested Hardy at Hornbaker Gardens" feature\, along with general tips on growing and cutting back perennials. We'll demonstrate how to divide a variety of perennials\, including hostas\, of course.\n\n\n\nBring a lawn chair and dress for the weather.  Saturday workshops are free to observe.
X-ALT-DESC;FMTTYPE=text/html:<span style="font-family:arial\,sans-serif\;"><span style="font-size:12.0pt\;">As we start our 36<sup>th</sup> year in business\, we&rsquo\;ll talk about our &ldquo\;Tested Hardy at Hornbaker Gardens&rdquo\; feature\, along with general tips on growing and cutting back perennials. We&rsquo\;ll demonstrate how to divide a variety of perennials\, including hostas\, of course.</span></span><br />\n<br />\n<span style="font-family:arial\,sans-serif\;"><span style="font-size:12.0pt\;">Bring a lawn chair and dress for the weather.&nbsp\; Saturday workshops are free to observe.</span></span>
LOCATION:Hornbaker Gardens 22937 1140 North Avenue Princeton\, IL 61356
UID:e.258.8489
SEQUENCE:3
DTSTAMP:20260423T232025Z
URL:https://members.princetonchamber-il.com/events/details/gardening-with-perennials-8489
END:VEVENT

END:VCALENDAR
