BEGIN:VCALENDAR
VERSION:2.0
PRODID:-//ChamberMaster//Event Calendar 2.0//EN
METHOD:PUBLISH
X-PUBLISHED-TTL:P3D
REFRESH-INTERVAL:P3D
CALSCALE:GREGORIAN
BEGIN:VEVENT
DTSTART:20251109T010000Z
DTEND:20251109T030000Z
X-MICROSOFT-CDO-ALLDAYEVENT:FALSE
SUMMARY:Festival 56 Sound Stage Presents Up By N00n
DESCRIPTION:UpByn00n started first as a lifestyle with a mission as simple as its name\, to make it out of bed at a time functional adults do (before noon). As we grew\, the music has grown with us tackling issues like feeling trapped in your own life and the inability to escape the digital world around us. That being said we hope the common line across the board here is we put out bangers.
X-ALT-DESC;FMTTYPE=text/html:UpByn00n started first as a lifestyle with a mission as simple as its name\, to make it out of bed at a time functional adults do (before noon). As we grew\, the music has grown with us tackling issues like feeling trapped in your own life and the inability to escape the digital world around us. That being said we hope the common line across the board here is we put out bangers.
LOCATION:Festival 56/Grace Theater 316 S. Main St. Princeton IL 61356
UID:e.258.8866
SEQUENCE:3
DTSTAMP:20260424T222308Z
URL:https://members.princetonchamber-il.com/events/details/festival-56-sound-stage-presents-up-by-n00n-8866
END:VEVENT

END:VCALENDAR
