BEGIN:VCALENDAR
VERSION:2.0
PRODID:-//ChamberMaster//Event Calendar 2.0//EN
METHOD:PUBLISH
X-PUBLISHED-TTL:P3D
REFRESH-INTERVAL:P3D
CALSCALE:GREGORIAN
BEGIN:VEVENT
DTSTART:20260125T010000Z
DTEND:20260125T030000Z
X-MICROSOFT-CDO-ALLDAYEVENT:FALSE
SUMMARY:Festival 56 Sound Stage Presents Ava Easter
DESCRIPTION:Ava Easter is a 26-year-old folk/indie singer-songwriter from Metamora\, IL who has been uplifted by community found in the Peoria music scene and karaoke scenes alike. A firm believer of no subject being too difficult to relive and find catharsis in through music\, she has formed a devoted fanbase drawn to her brutally honest lyrics and raw guitar and vocals.
X-ALT-DESC;FMTTYPE=text/html:Ava Easter is a 26-year-old folk/indie singer-songwriter from Metamora\, IL who has been uplifted by community found in the Peoria music scene and karaoke scenes alike. A firm believer of no subject being too difficult to relive and find catharsis in through music\, she has formed a devoted fanbase drawn to her brutally honest lyrics and raw guitar and vocals.
LOCATION:Festival 56/Grace Theater 316 S. Main St. Princeton IL 61356
UID:e.258.8867
SEQUENCE:3
DTSTAMP:20260425T001343Z
URL:https://members.princetonchamber-il.com/events/details/festival-56-sound-stage-presents-ava-easter-8867
END:VEVENT

END:VCALENDAR
