BEGIN:VCALENDAR
VERSION:2.0
PRODID:-//ChamberMaster//Event Calendar 2.0//EN
METHOD:PUBLISH
X-PUBLISHED-TTL:P3D
REFRESH-INTERVAL:P3D
CALSCALE:GREGORIAN
BEGIN:VEVENT
DTSTART:20220502T233000Z
DTEND:20220503T003000Z
X-MICROSOFT-CDO-ALLDAYEVENT:FALSE
SUMMARY:Evenings on the Patio - Spring Container
DESCRIPTION:May has arrived and it's time to pot up a beautiful container for your porch or patio. We'll supply a 12 inch container\, potting soil\, fertilizer\, plants and step by step instructions. You sip and mingle while playing in the dirt. Reservations are required. Fee: $40
X-ALT-DESC;FMTTYPE=text/html:<span style="font-family:arial\,sans-serif\;"><span style="font-size:12.0pt\;">May has arrived and it&rsquo\;s time to pot up a beautiful container for your porch or patio. We&rsquo\;ll supply a 12 inch container\, potting soil\, fertilizer\, plants and step by step instructions. You sip and mingle while playing in the dirt. Reservations are required. Fee: $40</span></span>&nbsp\;&nbsp\;&nbsp\;&nbsp\;
LOCATION:Hornbaker Gardens 22937 1140 North Avenue Princeton\, IL 61356
UID:e.258.8506
SEQUENCE:3
DTSTAMP:20260423T231622Z
URL:https://members.princetonchamber-il.com/events/details/evenings-on-the-patio-spring-container-8506
END:VEVENT

END:VCALENDAR
