BEGIN:VCALENDAR
VERSION:2.0
PRODID:-//ChamberMaster//Event Calendar 2.0//EN
METHOD:PUBLISH
X-PUBLISHED-TTL:P3D
REFRESH-INTERVAL:P3D
CALSCALE:GREGORIAN
BEGIN:VEVENT
DTSTART:20220516T233000Z
DTEND:20220517T003000Z
X-MICROSOFT-CDO-ALLDAYEVENT:FALSE
SUMMARY:Evenings on the Patio - Sensational Succulents
DESCRIPTION:In this hands-on workshop\, you'll be creating your own mini succulent garden. David Hornbaker will provide expert guidance and a variety of unique upcycled containers for you to choose from\, along with some more traditional containers. Reservations required. Fee: $35
X-ALT-DESC;FMTTYPE=text/html:<span style="font-family:arial\,sans-serif\;"><span style="font-size:12.0pt\;">In this hands-on workshop\, you&rsquo\;ll be creating your own mini succulent garden. David Hornbaker will provide expert guidance and a variety of unique upcycled containers for you to choose from\, along with some more traditional containers. Reservations required. Fee: $35</span></span>
LOCATION:Hornbaker Gardens 22937 1140 North Avenue Princeton\, IL 61356
UID:e.258.8615
SEQUENCE:3
DTSTAMP:20260423T232344Z
URL:https://members.princetonchamber-il.com/events/details/evenings-on-the-patio-sensational-succulents-8615
END:VEVENT

END:VCALENDAR
