BEGIN:VCALENDAR
VERSION:2.0
PRODID:-//ChamberMaster//Event Calendar 2.0//EN
METHOD:PUBLISH
X-PUBLISHED-TTL:P3D
REFRESH-INTERVAL:P3D
CALSCALE:GREGORIAN
BEGIN:VEVENT
DTSTART:20220509T233000Z
DTEND:20220510T003000Z
X-MICROSOFT-CDO-ALLDAYEVENT:FALSE
SUMMARY:Evenings on the Patio - Cultivating and Cooking Herbs
DESCRIPTION:Join local chef Monika Sudakov\, from the Chestnut Street Inn in Sheffield\, to learn about tips for growing and using fresh herbs. After learning the basics\, watch Chef Monika make a simple dish using fresh herbs to sample. Everyone goes home with an herb plant to add to their garden. Reservations required. Fee: $15
X-ALT-DESC;FMTTYPE=text/html:<span style="font-family:arial\,sans-serif\;"><span style="font-size:12.0pt\;">Join local chef Monika Sudakov\, from the Chestnut Street Inn in Sheffield\, to learn about tips for growing and using fresh herbs. After learning the basics\, watch Chef Monika make a simple dish using fresh herbs to sample. Everyone goes home with an herb plant to add to their garden. Reservations required. Fee: $15</span></span>
LOCATION:Hornbaker Gardens 22937 1140 North Avenue Princeton\, IL 61356
UID:e.258.8614
SEQUENCE:3
DTSTAMP:20260423T232507Z
URL:https://members.princetonchamber-il.com/events/details/evenings-on-the-patio-cultivating-and-cooking-herbs-8614
END:VEVENT

END:VCALENDAR
