BEGIN:VCALENDAR
VERSION:2.0
PRODID:-//ChamberMaster//Event Calendar 2.0//EN
METHOD:PUBLISH
X-PUBLISHED-TTL:P3D
REFRESH-INTERVAL:P3D
CALSCALE:GREGORIAN
BEGIN:VEVENT
DTSTART:20210813T230000Z
DTEND:20210814T030000Z
X-MICROSOFT-CDO-ALLDAYEVENT:FALSE
SUMMARY:Down on Main Street Concert: The Jimmy's
DESCRIPTION:
X-ALT-DESC;FMTTYPE=text/html:
LOCATION:
UID:e.258.8416
SEQUENCE:3
DTSTAMP:20260424T121807Z
URL:https://members.princetonchamber-il.com/events/details/down-on-main-street-concert-the-jimmy-s-8416
END:VEVENT

END:VCALENDAR
