BEGIN:VCALENDAR
VERSION:2.0
PRODID:-//ChamberMaster//Event Calendar 2.0//EN
METHOD:PUBLISH
X-PUBLISHED-TTL:P3D
REFRESH-INTERVAL:P3D
CALSCALE:GREGORIAN
BEGIN:VEVENT
DTSTART:20251122T153000Z
DTEND:20251122T200000Z
X-MICROSOFT-CDO-ALLDAYEVENT:FALSE
SUMMARY:Christkindlmarkt - German-Style Holiday Market
DESCRIPTION:INTERNATIONAL COOKIES HOMEMADE CANDIES VARIETY OF VENDORS CHILDREN'S CRAFT GERMAN LUNCH COUNTER - STARTS 11 AM
X-ALT-DESC;FMTTYPE=text/html:INTERNATIONAL COOKIES HOMEMADE CANDIES VARIETY OF VENDORS CHILDREN&rsquo\;S CRAFT GERMAN LUNCH COUNTER - STARTS 11 AM
LOCATION:Open Prairie United Church of Christ 25 E Marion St Princeton\, IL 61356
UID:e.258.9294
SEQUENCE:3
DTSTAMP:20260424T203504Z
URL:https://members.princetonchamber-il.com/events/details/christkindlmarkt-german-style-holiday-market-9294
END:VEVENT

END:VCALENDAR
