BEGIN:VCALENDAR
VERSION:2.0
PRODID:-//ChamberMaster//Event Calendar 2.0//EN
METHOD:PUBLISH
X-PUBLISHED-TTL:P3D
REFRESH-INTERVAL:P3D
CALSCALE:GREGORIAN
BEGIN:VEVENT
DTSTART:20220519T220000Z
DTEND:20220520T000000Z
X-MICROSOFT-CDO-ALLDAYEVENT:FALSE
SUMMARY:Business After Hours
DESCRIPTION:Join us for Business After Hours...\n\nMix Mingle and Make Connections!\n\nFood\, Beverages\, 50/50\, Door Prizes....Networking!
X-ALT-DESC;FMTTYPE=text/html:<span style="font-size:20px\;"><strong>Join us for Business After Hours...<br>\n<em>Mix Mingle and Make Connections!</em></strong></span><br>\nFood\, Beverages\, 50/50\, Door Prizes....Networking!
LOCATION:
UID:e.258.7997
SEQUENCE:3
DTSTAMP:20260423T213421Z
URL:https://members.princetonchamber-il.com/events/details/business-after-hours-7997
END:VEVENT

END:VCALENDAR
