BEGIN:VCALENDAR
VERSION:2.0
PRODID:-//ChamberMaster//Event Calendar 2.0//EN
METHOD:PUBLISH
X-PUBLISHED-TTL:P3D
REFRESH-INTERVAL:P3D
CALSCALE:GREGORIAN
BEGIN:VEVENT
DTSTART:20350919T230000Z
DTEND:20350920T010000Z
X-MICROSOFT-CDO-ALLDAYEVENT:FALSE
SUMMARY:Amvets Post #180 Meeting
DESCRIPTION:Amvets Post #180 monthly meeting
X-ALT-DESC;FMTTYPE=text/html:Amvets Post #180 monthly meeting
LOCATION:American Legion 1549 West Peru Street Princeton\, IL 61356
UID:e.258.9163
SEQUENCE:3
DTSTAMP:20260424T192847Z
URL:https://members.princetonchamber-il.com/events/details/amvets-post-180-09-19-2035-9163
END:VEVENT

END:VCALENDAR
